BEGIN:VCALENDAR
VERSION:2.0
PRODID:-//CCIPIALES - ECPv4.6.13//NONSGML v1.0//EN
CALSCALE:GREGORIAN
METHOD:PUBLISH
X-WR-CALNAME:CCIPIALES
X-ORIGINAL-URL:https://ccipiales.org.co
X-WR-CALDESC:Events for CCIPIALES
BEGIN:VEVENT
DTSTART;TZID=UTC+0:20250731T080000
DTEND;TZID=UTC+0:20250731T170000
DTSTAMP:20260421T204613
CREATED:20250729T163227Z
LAST-MODIFIED:20250729T164846Z
UID:6503-1753948800-1753981200@ccipiales.org.co
SUMMARY:Estrategias efectivas contra el acoso laboral.
DESCRIPTION:  ¿Sabías que una buena capacitación puede prevenir el acoso laboral antes de que ocurra? \nEl acoso en el trabajo afecta la salud emocional\, la productividad y el clima laboral. Pero con las herramientas adecuadas\, ¡sí es posible prevenirlo!  \n✅ Identifica señales de alerta desde el inicio \n✅ Empodera a trabajadores y líderes para actuar con confianza \n✅ Fomenta el respeto\, la empatía y la inclusión \nTe esperamos este 32 de julio a las 8:00 am en la Cámara de comercio de Ipiales para la capacitación Transformando el entorno : Estrategias efectivas para prevenir el acoso laboral.  \n
URL:https://ccipiales.org.co/calendario/6503/
LOCATION:calle 15\, ipiales\, nariño\, Colombia
ATTACH;FMTTYPE=image/jpeg:https://ccipiales.org.co/wp-content/uploads/2025/07/equis.jpg
ORGANIZER;CN="cc%20ipiales":MAILTO:capacitacionempresarial@ccipiales.org.co
END:VEVENT
END:VCALENDAR