BEGIN:VCALENDAR
VERSION:2.0
PRODID:-//CCIPIALES - ECPv4.6.13//NONSGML v1.0//EN
CALSCALE:GREGORIAN
METHOD:PUBLISH
X-WR-CALNAME:CCIPIALES
X-ORIGINAL-URL:https://ccipiales.org.co
X-WR-CALDESC:Events for CCIPIALES
BEGIN:VEVENT
DTSTART;VALUE=DATE:20250815
DTEND;VALUE=DATE:20250816
DTSTAMP:20260421T185050
CREATED:20250708T190633Z
LAST-MODIFIED:20250708T190633Z
UID:6447-1755216000-1755302399@ccipiales.org.co
SUMMARY:Convocatoria para presentar ponencias en el Encuentro Fronteras de oportunidad
DESCRIPTION:\nYa está abierta la convocatoria para presentar ponencias en el Encuentro Fronteras de oportunidad: dinámicas y perspectivas en la ZIF colombo-ecuatoriana\, organizado por el Observatorio OZIFEC.\n\n\n Cámara de Comercio de Ipiales\n 25 y 26 de septiembre de 2025\n\n\nSi trabajas temas como migración\, gobernanza transfronteriza\, turismo binacional\, seguridad en frontera o desarrollo sostenible\, esta es tu oportunidad de aportar al conocimiento regional.\n\n\n Recepción de resúmenes hasta el 15 de agosto\n Envío de resúmenes: ozifec@ozifecds.org\n\n\nConsulta términos y detalles en: https://staging.ozifecds.org/\n\n\n¡Sumemos ideas para fortalecer la integración fronteriza!\n\n
URL:https://ccipiales.org.co/calendario/convocatoria-para-presentar-ponencias-en-el-encuentro-fronteras-de-oportunidad/
LOCATION:calle 15\, ipiales\, nariño\, Colombia
ATTACH;FMTTYPE=image/jpeg:https://ccipiales.org.co/wp-content/uploads/2025/07/ozifec.jpg
ORGANIZER;CN="cc%20ipiales":MAILTO:capacitacionempresarial@ccipiales.org.co
END:VEVENT
END:VCALENDAR