BEGIN:VCALENDAR
VERSION:2.0
PRODID:-//CCIPIALES - ECPv4.6.13//NONSGML v1.0//EN
CALSCALE:GREGORIAN
METHOD:PUBLISH
X-WR-CALNAME:CCIPIALES
X-ORIGINAL-URL:https://ccipiales.org.co
X-WR-CALDESC:Events for CCIPIALES
BEGIN:VEVENT
DTSTART;TZID=UTC+0:20250530T183000
DTEND;TZID=UTC+0:20250530T213000
DTSTAMP:20260420T163400
CREATED:20250430T162016Z
LAST-MODIFIED:20250430T162016Z
UID:5936-1748629800-1748640600@ccipiales.org.co
SUMMARY:Formación de Auditores ISO 9001:2015 y Modelo Integrado de Planeación y Gestión (MIPG)
DESCRIPTION:\n Formación de Auditores ISO 9001:2015 y Modelo Integrado de Planeación y Gestión (MIPG)\n\n\nLa Cámara de Comercio de Ipiales y su Instituto Técnico Empresarial invitan a empresarios\, profesionales y público en general a participar en el curso de Formación de Auditores en la Norma ISO 9001:2015 y el Modelo Integrado de Planeación y Gestión (MIPG)\, diseñado para fortalecer las competencias en sistemas de gestión de calidad y herramientas clave de planeación estratégica en el sector público y privado.\n\n\n Inicio de clases: 30 de mayo\n Horario: Viernes de 6:30 p.m. a 9:30 p.m.\n Modalidad: Presencial\n Duración: 50 horas distribuidas en 10 sesiones\n Incluye certificado\n Inversión: $250.000 público general | $200.000 afiliados\n\n\n Regístrate en el enlace: https://forms.gle/do7n3DG9CKE47b5H9\n\n\n#ITECCI #CCI #FormaciónDeAuditores\n\n
URL:https://ccipiales.org.co/calendario/formacion-de-auditores-iso-90012015-y-modelo-integrado-de-planeacion-y-gestion-mipg/
LOCATION:calle 15\, ipiales\, nariño\, Colombia
ATTACH;FMTTYPE=image/jpeg:https://ccipiales.org.co/wp-content/uploads/2025/04/494315549_1105440431610077_8538723669650123687_n.jpg
ORGANIZER;CN="cc%20ipiales":MAILTO:capacitacionempresarial@ccipiales.org.co
END:VEVENT
END:VCALENDAR