BEGIN:VCALENDAR
VERSION:2.0
PRODID:-//CCIPIALES - ECPv4.6.13//NONSGML v1.0//EN
CALSCALE:GREGORIAN
METHOD:PUBLISH
X-WR-CALNAME:CCIPIALES
X-ORIGINAL-URL:https://ccipiales.org.co
X-WR-CALDESC:Events for CCIPIALES
BEGIN:VEVENT
DTSTART;TZID=UTC+0:20250505T180000
DTEND;TZID=UTC+0:20250505T180000
DTSTAMP:20260421T090756
CREATED:20250407T142953Z
LAST-MODIFIED:20250407T143919Z
UID:5638-1746468000-1746468000@ccipiales.org.co
SUMMARY:INICIO DE CLASES ITECCI
DESCRIPTION:¡El inicio de clases en ITECCI será el 5 de mayo de 2025! Aún estás a tiempo de hacer parte de nuestra comunidad educativa. Las matrículas estarán abiertas hasta el 30 de abril\, ¡no dejes pasar esta oportunidad! \n
URL:https://ccipiales.org.co/calendario/inicio-de-clases-itecci/
LOCATION:calle 15\, ipiales\, nariño\, Colombia
ATTACH;FMTTYPE=image/jpeg:https://ccipiales.org.co/wp-content/uploads/2025/04/inicio-clases-itecci.jpeg
END:VEVENT
END:VCALENDAR