BEGIN:VCALENDAR
VERSION:2.0
PRODID:-//CCIPIALES - ECPv4.6.13//NONSGML v1.0//EN
CALSCALE:GREGORIAN
METHOD:PUBLISH
X-WR-CALNAME:CCIPIALES
X-ORIGINAL-URL:https://ccipiales.org.co
X-WR-CALDESC:Events for CCIPIALES
BEGIN:VEVENT
DTSTART;VALUE=DATE:20250525
DTEND;VALUE=DATE:20250526
DTSTAMP:20260420T220534
CREATED:20250321T165117Z
LAST-MODIFIED:20250321T165117Z
UID:5520-1748131200-1748217599@ccipiales.org.co
SUMMARY:La Carrera del Comercio Ipiales 2025
DESCRIPTION:\nEste 25 de mayo\, súmate a esta gran experiencia deportiva que une al comercio\, a los emprendedores y a toda la ciudadanía en un mismo recorrido.\n\n\n 10K y 3K — una oportunidad para fortalecer cuerpo\, mente y espíritu.\n\n\n Inscríbete en la Cámara de Comercio de Ipiales o escríbenos al  3187351988 – 31782 3378\n\n\n Descuento especial para afiliados y comerciantes que renueven su matrícula mercantil antes del 31 de marzo.\n\n\n Avancemos juntos. Participa y haz parte de este gran encuentro.\n\n
URL:https://ccipiales.org.co/calendario/la-carrera-del-comercio-ipiales-2025/
ATTACH;FMTTYPE=image/jpeg:https://ccipiales.org.co/wp-content/uploads/2025/03/carrera-del-cemercio.jpg
ORGANIZER;CN="cc%20ipiales":MAILTO:capacitacionempresarial@ccipiales.org.co
END:VEVENT
END:VCALENDAR